BEGIN:VCALENDAR
VERSION:2.0
PRODID:-//MISSISSIPPI BASKETBALL &amp; ATHLETICS - ECPv6.15.16//NONSGML v1.0//EN
CALSCALE:GREGORIAN
METHOD:PUBLISH
X-ORIGINAL-URL:https://mbahoops.net
X-WR-CALDESC:Events for MISSISSIPPI BASKETBALL &amp; ATHLETICS
REFRESH-INTERVAL;VALUE=DURATION:PT1H
X-Robots-Tag:noindex
X-PUBLISHED-TTL:PT1H
BEGIN:VTIMEZONE
TZID:UTC
BEGIN:STANDARD
TZOFFSETFROM:+0000
TZOFFSETTO:+0000
TZNAME:UTC
DTSTART:20120101T000000
END:STANDARD
END:VTIMEZONE
BEGIN:VEVENT
DTSTART;TZID=UTC:20160626T080000
DTEND;TZID=UTC:20160626T170000
DTSTAMP:20260419T190549
CREATED:20131104T091437Z
LAST-MODIFIED:20151231T040004Z
UID:4707-1466928000-1466960400@mbahoops.net
SUMMARY:MARATHON
DESCRIPTION:At vero eos et accusamus et iusto odio dignissimos ducimus qui blanditiis praesentium voluptatum deleniti atque corrupti quos dolores et quas molestias excepturi sint occaecati cupiditate non provident\, similique sunt in culpa qui officia deserunt mollitia animi\, id est laborum et dolorum fuga. \nEt harum quidem rerum facilis est et expedita distinctio. Nam libero tempore\, cum soluta nobis est eligendi optio cumque nihil impedit quo minus id quod maxime placeat facere possimus\, omnis voluptas assumenda est\, omnis dolor repellendus. Temporibus autem quibusdam et aut officiis debitis aut rerum necessitatibus saepe eveniet ut et voluptates repudiandae sint et molestiae non recusandae. Itaque earum rerum hic tenetur a sapiente delectus\, ut aut reiciendis voluptatibus maiores alias consequatur aut perferendis doloribus asperiores repellat.
URL:https://mbahoops.net/event/yoga-2-2016-06-26/
LOCATION:Fitness Center\, 123 Main St.\, Boston\, IL\, United States
CATEGORIES:Boxing,Yoga
ATTACH;FMTTYPE=image/jpeg:https://mbahoops.net/wp-content/uploads/2013/07/006.jpg
ORGANIZER;CN="Cactus Staff":MAILTO:mail@example.com
END:VEVENT
BEGIN:VEVENT
DTSTART;TZID=UTC:20160526T080000
DTEND;TZID=UTC:20160526T170000
DTSTAMP:20260419T190549
CREATED:20131104T091437Z
LAST-MODIFIED:20151231T040004Z
UID:4706-1464249600-1464282000@mbahoops.net
SUMMARY:MARATHON
DESCRIPTION:At vero eos et accusamus et iusto odio dignissimos ducimus qui blanditiis praesentium voluptatum deleniti atque corrupti quos dolores et quas molestias excepturi sint occaecati cupiditate non provident\, similique sunt in culpa qui officia deserunt mollitia animi\, id est laborum et dolorum fuga. \nEt harum quidem rerum facilis est et expedita distinctio. Nam libero tempore\, cum soluta nobis est eligendi optio cumque nihil impedit quo minus id quod maxime placeat facere possimus\, omnis voluptas assumenda est\, omnis dolor repellendus. Temporibus autem quibusdam et aut officiis debitis aut rerum necessitatibus saepe eveniet ut et voluptates repudiandae sint et molestiae non recusandae. Itaque earum rerum hic tenetur a sapiente delectus\, ut aut reiciendis voluptatibus maiores alias consequatur aut perferendis doloribus asperiores repellat.
URL:https://mbahoops.net/event/yoga-2-2016-05-26/
LOCATION:Fitness Center\, 123 Main St.\, Boston\, IL\, United States
CATEGORIES:Boxing,Yoga
ATTACH;FMTTYPE=image/jpeg:https://mbahoops.net/wp-content/uploads/2013/07/004.jpg
ORGANIZER;CN="Cactus Staff":MAILTO:mail@example.com
END:VEVENT
BEGIN:VEVENT
DTSTART;TZID=UTC:20160426T080000
DTEND;TZID=UTC:20160426T170000
DTSTAMP:20260419T190549
CREATED:20131104T091437Z
LAST-MODIFIED:20151231T040003Z
UID:4705-1461657600-1461690000@mbahoops.net
SUMMARY:MARATHON
DESCRIPTION:At vero eos et accusamus et iusto odio dignissimos ducimus qui blanditiis praesentium voluptatum deleniti atque corrupti quos dolores et quas molestias excepturi sint occaecati cupiditate non provident\, similique sunt in culpa qui officia deserunt mollitia animi\, id est laborum et dolorum fuga. \nEt harum quidem rerum facilis est et expedita distinctio. Nam libero tempore\, cum soluta nobis est eligendi optio cumque nihil impedit quo minus id quod maxime placeat facere possimus\, omnis voluptas assumenda est\, omnis dolor repellendus. Temporibus autem quibusdam et aut officiis debitis aut rerum necessitatibus saepe eveniet ut et voluptates repudiandae sint et molestiae non recusandae. Itaque earum rerum hic tenetur a sapiente delectus\, ut aut reiciendis voluptatibus maiores alias consequatur aut perferendis doloribus asperiores repellat.
URL:https://mbahoops.net/event/yoga-2-2016-04-26/
LOCATION:Fitness Center\, 123 Main St.\, Boston\, IL\, United States
CATEGORIES:Boxing,Yoga
ATTACH;FMTTYPE=image/jpeg:https://mbahoops.net/wp-content/uploads/2013/07/005.jpg
ORGANIZER;CN="Cactus Staff":MAILTO:mail@example.com
END:VEVENT
BEGIN:VEVENT
DTSTART;TZID=UTC:20160326T080000
DTEND;TZID=UTC:20160326T170000
DTSTAMP:20260419T190549
CREATED:20131104T091437Z
LAST-MODIFIED:20151231T040003Z
UID:4704-1458979200-1459011600@mbahoops.net
SUMMARY:MARATHON
DESCRIPTION:At vero eos et accusamus et iusto odio dignissimos ducimus qui blanditiis praesentium voluptatum deleniti atque corrupti quos dolores et quas molestias excepturi sint occaecati cupiditate non provident\, similique sunt in culpa qui officia deserunt mollitia animi\, id est laborum et dolorum fuga. \nEt harum quidem rerum facilis est et expedita distinctio. Nam libero tempore\, cum soluta nobis est eligendi optio cumque nihil impedit quo minus id quod maxime placeat facere possimus\, omnis voluptas assumenda est\, omnis dolor repellendus. Temporibus autem quibusdam et aut officiis debitis aut rerum necessitatibus saepe eveniet ut et voluptates repudiandae sint et molestiae non recusandae. Itaque earum rerum hic tenetur a sapiente delectus\, ut aut reiciendis voluptatibus maiores alias consequatur aut perferendis doloribus asperiores repellat.
URL:https://mbahoops.net/event/yoga-2-2016-03-26/
LOCATION:Fitness Center\, 123 Main St.\, Boston\, IL\, United States
CATEGORIES:Boxing,Yoga
ATTACH;FMTTYPE=image/jpeg:https://mbahoops.net/wp-content/uploads/2013/07/003.jpg
ORGANIZER;CN="Cactus Staff":MAILTO:mail@example.com
END:VEVENT
BEGIN:VEVENT
DTSTART;TZID=UTC:20131126T080000
DTEND;TZID=UTC:20131126T170000
DTSTAMP:20260419T190549
CREATED:20131104T091437Z
LAST-MODIFIED:20151231T035958Z
UID:3941-1385452800-1385485200@mbahoops.net
SUMMARY:MARATHON
DESCRIPTION:At vero eos et accusamus et iusto odio dignissimos ducimus qui blanditiis praesentium voluptatum deleniti atque corrupti quos dolores et quas molestias excepturi sint occaecati cupiditate non provident\, similique sunt in culpa qui officia deserunt mollitia animi\, id est laborum et dolorum fuga. \nEt harum quidem rerum facilis est et expedita distinctio. Nam libero tempore\, cum soluta nobis est eligendi optio cumque nihil impedit quo minus id quod maxime placeat facere possimus\, omnis voluptas assumenda est\, omnis dolor repellendus. Temporibus autem quibusdam et aut officiis debitis aut rerum necessitatibus saepe eveniet ut et voluptates repudiandae sint et molestiae non recusandae. Itaque earum rerum hic tenetur a sapiente delectus\, ut aut reiciendis voluptatibus maiores alias consequatur aut perferendis doloribus asperiores repellat.
URL:https://mbahoops.net/event/yoga-2/
LOCATION:Fitness Center\, 123 Main St.\, Boston\, IL\, United States
CATEGORIES:Boxing,Yoga
ATTACH;FMTTYPE=image/jpeg:https://mbahoops.net/wp-content/uploads/2013/07/workout-1420741_1920.jpg
ORGANIZER;CN="Cactus Staff":MAILTO:mail@example.com
END:VEVENT
END:VCALENDAR